<?xml version="1.0" encoding="UTF-8"?>
<Capabilities xmlns="http://www.opengis.net/wmts/1.0"
xmlns:ows="http://www.opengis.net/ows/1.1"
xmlns:xlink="http://www.w3.org/1999/xlink"
xmlns:xsi="http://www.w3.org/2001/XMLSchema-instance"
xmlns:gml="http://www.opengis.net/gml"
xsi:schemaLocation="http://www.opengis.net/wmts/1.0 http://schemas.opengis.net/wmts/1.0/wmtsGetCapabilities_response.xsd"
version="1.0.0">
<!-- Service Identification --> <ows:ServiceIdentification>
<ows:Title>Rehber_CbsRehberGeoHybrid</ows:Title>
<ows:ServiceType>OGC WMTS</ows:ServiceType>
<ows:ServiceTypeVersion>1.0.0</ows:ServiceTypeVersion>
</ows:ServiceIdentification> <!-- Operations Metadata --> <ows:OperationsMetadata>
<ows:Operation name="GetCapabilities">
<ows:DCP>
<ows:HTTP>
<ows:Get xlink:href="http://kentrehberi.izmir.bel.tr/arcgis/rest/services/Rehber/CbsRehberGeoHybrid/MapServer/WMTS/1.0.0/WMTSCapabilities.xml">
<ows:Constraint name="GetEncoding">
<ows:AllowedValues>
<ows:Value>RESTful</ows:Value>
</ows:AllowedValues>
</ows:Constraint>
</ows:Get>
<!-- add KVP binding in 10.1 -->
<ows:Get xlink:href="http://kentrehberi.izmir.bel.tr/arcgis/rest/services/Rehber/CbsRehberGeoHybrid/MapServer/WMTS?">
<ows:Constraint name="GetEncoding">
<ows:AllowedValues>
<ows:Value>KVP</ows:Value>
</ows:AllowedValues>
</ows:Constraint>
</ows:Get>
</ows:HTTP>
</ows:DCP>
</ows:Operation>
<ows:Operation name="GetTile">
<ows:DCP>
<ows:HTTP>
<ows:Get xlink:href="http://kentrehberi.izmir.bel.tr/arcgis/rest/services/Rehber/CbsRehberGeoHybrid/MapServer/WMTS/tile/1.0.0/">
<ows:Constraint name="GetEncoding">
<ows:AllowedValues>
<ows:Value>RESTful</ows:Value>
</ows:AllowedValues>
</ows:Constraint>
</ows:Get>
<ows:Get xlink:href="http://kentrehberi.izmir.bel.tr/arcgis/rest/services/Rehber/CbsRehberGeoHybrid/MapServer/WMTS?">
<ows:Constraint name="GetEncoding">
<ows:AllowedValues>
<ows:Value>KVP</ows:Value>
</ows:AllowedValues>
</ows:Constraint>
</ows:Get>
</ows:HTTP>
</ows:DCP>
</ows:Operation>
</ows:OperationsMetadata> <Contents>
<!--Layer--> <Layer>
<ows:Title>Rehber_CbsRehberGeoHybrid</ows:Title> <ows:Identifier>Rehber_CbsRehberGeoHybrid</ows:Identifier>
<ows:BoundingBox crs="urn:ogc:def:crs:EPSG::0">
<ows:LowerCorner>356880.22710523714 4176721.23401243</ows:LowerCorner>
<ows:UpperCorner>724784.0879129588 4376270.383110728</ows:UpperCorner>
</ows:BoundingBox> <ows:WGS84BoundingBox crs="urn:ogc:def:crs:OGC:2:84">
<ows:LowerCorner>25.335920740723797 37.69516500110624</ows:LowerCorner>
<ows:UpperCorner>29.61284692485551 39.52032213251756</ows:UpperCorner>
</ows:WGS84BoundingBox>
<Style isDefault="true">
<ows:Title>Default Style</ows:Title>
<ows:Identifier>default</ows:Identifier>
</Style>
<Format>image/png</Format>
<TileMatrixSetLink>
<TileMatrixSet>default028mm</TileMatrixSet>
</TileMatrixSetLink>
<ResourceURL format="image/png" resourceType="tile" template="http://kentrehberi.izmir.bel.tr/arcgis/rest/services/Rehber/CbsRehberGeoHybrid/MapServer/WMTS/tile/1.0.0/Rehber_CbsRehberGeoHybrid/{Style}/{TileMatrixSet}/{TileMatrix}/{TileRow}/{TileCol}.png" />
</Layer> <!--TileMatrixSet-->
<TileMatrixSet>
<ows:Title>TileMatrix using 0.28mm</ows:Title>
<ows:Abstract>The tile matrix set that has scale values calculated based on the dpi defined by OGC specification (dpi assumes 0.28mm as the physical distance of a pixel).</ows:Abstract> <ows:Identifier>default028mm</ows:Identifier>
<ows:SupportedCRS>urn:ogc:def:crs:EPSG::0</ows:SupportedCRS>
<TileMatrix>
<ows:Identifier>0</ows:Identifier>
<ScaleDenominator>850448.1294675806</ScaleDenominator>
<TopLeftCorner>-5123200.0 1.00021E7</TopLeftCorner> <TileWidth>256</TileWidth> <TileHeight>256</TileHeight>
<MatrixWidth>96</MatrixWidth> <MatrixHeight>96</MatrixHeight>
</TileMatrix>
<TileMatrix>
<ows:Identifier>1</ows:Identifier>
<ScaleDenominator>566965.4196450538</ScaleDenominator>
<TopLeftCorner>-5123200.0 1.00021E7</TopLeftCorner> <TileWidth>256</TileWidth> <TileHeight>256</TileHeight>
<MatrixWidth>144</MatrixWidth> <MatrixHeight>144</MatrixHeight>
</TileMatrix>
<TileMatrix>
<ows:Identifier>2</ows:Identifier>
<ScaleDenominator>425224.0647337903</ScaleDenominator>
<TopLeftCorner>-5123200.0 1.00021E7</TopLeftCorner> <TileWidth>256</TileWidth> <TileHeight>256</TileHeight>
<MatrixWidth>192</MatrixWidth> <MatrixHeight>192</MatrixHeight>
</TileMatrix>
<TileMatrix>
<ows:Identifier>3</ows:Identifier>
<ScaleDenominator>283482.7098225269</ScaleDenominator>
<TopLeftCorner>-5123200.0 1.00021E7</TopLeftCorner> <TileWidth>256</TileWidth> <TileHeight>256</TileHeight>
<MatrixWidth>288</MatrixWidth> <MatrixHeight>287</MatrixHeight>
</TileMatrix>
<TileMatrix>
<ows:Identifier>4</ows:Identifier>
<ScaleDenominator>141741.35491126345</ScaleDenominator>
<TopLeftCorner>-5123200.0 1.00021E7</TopLeftCorner> <TileWidth>256</TileWidth> <TileHeight>256</TileHeight>
<MatrixWidth>576</MatrixWidth> <MatrixHeight>574</MatrixHeight>
</TileMatrix>
<TileMatrix>
<ows:Identifier>5</ows:Identifier>
<ScaleDenominator>94494.23660750895</ScaleDenominator>
<TopLeftCorner>-5123200.0 1.00021E7</TopLeftCorner> <TileWidth>256</TileWidth> <TileHeight>256</TileHeight>
<MatrixWidth>864</MatrixWidth> <MatrixHeight>861</MatrixHeight>
</TileMatrix>
<TileMatrix>
<ows:Identifier>6</ows:Identifier>
<ScaleDenominator>70870.67745563173</ScaleDenominator>
<TopLeftCorner>-5123200.0 1.00021E7</TopLeftCorner> <TileWidth>256</TileWidth> <TileHeight>256</TileHeight>
<MatrixWidth>1152</MatrixWidth> <MatrixHeight>1147</MatrixHeight>
</TileMatrix>
<TileMatrix>
<ows:Identifier>7</ows:Identifier>
<ScaleDenominator>47247.118303754476</ScaleDenominator>
<TopLeftCorner>-5123200.0 1.00021E7</TopLeftCorner> <TileWidth>256</TileWidth> <TileHeight>256</TileHeight>
<MatrixWidth>1727</MatrixWidth> <MatrixHeight>1721</MatrixHeight>
</TileMatrix>
<TileMatrix>
<ows:Identifier>8</ows:Identifier>
<ScaleDenominator>23623.559151877238</ScaleDenominator>
<TopLeftCorner>-5123200.0 1.00021E7</TopLeftCorner> <TileWidth>256</TileWidth> <TileHeight>256</TileHeight>
<MatrixWidth>3454</MatrixWidth> <MatrixHeight>3441</MatrixHeight>
</TileMatrix>
<TileMatrix>
<ows:Identifier>9</ows:Identifier>
<ScaleDenominator>14174.135491126344</ScaleDenominator>
<TopLeftCorner>-5123200.0 1.00021E7</TopLeftCorner> <TileWidth>256</TileWidth> <TileHeight>256</TileHeight>
<MatrixWidth>5756</MatrixWidth> <MatrixHeight>5734</MatrixHeight>
</TileMatrix>
<TileMatrix>
<ows:Identifier>10</ows:Identifier>
<ScaleDenominator>8504.481294675807</ScaleDenominator>
<TopLeftCorner>-5123200.0 1.00021E7</TopLeftCorner> <TileWidth>256</TileWidth> <TileHeight>256</TileHeight>
<MatrixWidth>9594</MatrixWidth> <MatrixHeight>9557</MatrixHeight>
</TileMatrix>
<TileMatrix>
<ows:Identifier>11</ows:Identifier>
<ScaleDenominator>7087.067745563172</ScaleDenominator>
<TopLeftCorner>-5123200.0 1.00021E7</TopLeftCorner> <TileWidth>256</TileWidth> <TileHeight>256</TileHeight>
<MatrixWidth>11512</MatrixWidth> <MatrixHeight>11468</MatrixHeight>
</TileMatrix>
<TileMatrix>
<ows:Identifier>12</ows:Identifier>
<ScaleDenominator>4724.711830375448</ScaleDenominator>
<TopLeftCorner>-5123200.0 1.00021E7</TopLeftCorner> <TileWidth>256</TileWidth> <TileHeight>256</TileHeight>
<MatrixWidth>17268</MatrixWidth> <MatrixHeight>17201</MatrixHeight>
</TileMatrix>
<TileMatrix>
<ows:Identifier>13</ows:Identifier>
<ScaleDenominator>2362.355915187724</ScaleDenominator>
<TopLeftCorner>-5123200.0 1.00021E7</TopLeftCorner> <TileWidth>256</TileWidth> <TileHeight>256</TileHeight>
<MatrixWidth>34536</MatrixWidth> <MatrixHeight>34402</MatrixHeight>
</TileMatrix>
<TileMatrix>
<ows:Identifier>14</ows:Identifier>
<ScaleDenominator>944.9423660750896</ScaleDenominator>
<TopLeftCorner>-5123200.0 1.00021E7</TopLeftCorner> <TileWidth>256</TileWidth> <TileHeight>256</TileHeight>
<MatrixWidth>86339</MatrixWidth> <MatrixHeight>86005</MatrixHeight>
</TileMatrix>
<TileMatrix>
<ows:Identifier>15</ows:Identifier>
<ScaleDenominator>401.60050558191307</ScaleDenominator>
<TopLeftCorner>-5123200.0 1.00021E7</TopLeftCorner> <TileWidth>256</TileWidth> <TileHeight>256</TileHeight>
<MatrixWidth>203149</MatrixWidth> <MatrixHeight>202364</MatrixHeight>
</TileMatrix>
</TileMatrixSet>
</Contents>
<ServiceMetadataURL xlink:href="http://kentrehberi.izmir.bel.tr/arcgis/rest/services/Rehber/CbsRehberGeoHybrid/MapServer/WMTS/1.0.0/WMTSCapabilities.xml" /> </Capabilities>
