{
 "currentVersion": 10.31,
 "serviceDescription": "",
 "mapName": "Layers",
 "description": "",
 "copyrightText": "",
 "supportsDynamicLayers": false,
 "layers": [
  {
   "id": 0,
   "name": "900000 - 300000",
   "parentLayerId": -1,
   "defaultVisibility": true,
   "subLayerIds": [
    1,
    2,
    3,
    4,
    5
   ],
   "minScale": 900000,
   "maxScale": 300001
  },
  {
   "id": 1,
   "name": "REHBER.RHB_ONEMLIYERLER",
   "parentLayerId": 0,
   "defaultVisibility": true,
   "subLayerIds": null,
   "minScale": 0,
   "maxScale": 0
  },
  {
   "id": 2,
   "name": "Yol_Anayol",
   "parentLayerId": 0,
   "defaultVisibility": true,
   "subLayerIds": null,
   "minScale": 0,
   "maxScale": 0
  },
  {
   "id": 3,
   "name": "Komsu_iller_itrf",
   "parentLayerId": 0,
   "defaultVisibility": true,
   "subLayerIds": null,
   "minScale": 0,
   "maxScale": 0
  },
  {
   "id": 4,
   "name": "Ilce Alani",
   "parentLayerId": 0,
   "defaultVisibility": true,
   "subLayerIds": null,
   "minScale": 0,
   "maxScale": 0
  },
  {
   "id": 5,
   "name": "Il_Nokta",
   "parentLayerId": 0,
   "defaultVisibility": true,
   "subLayerIds": null,
   "minScale": 0,
   "maxScale": 0
  },
  {
   "id": 6,
   "name": "300000 - 150000",
   "parentLayerId": -1,
   "defaultVisibility": true,
   "subLayerIds": [
    7,
    8,
    9,
    10,
    11,
    12,
    13
   ],
   "minScale": 300000,
   "maxScale": 150001
  },
  {
   "id": 7,
   "name": "REHBER.RHB_ONEMLIYERLER",
   "parentLayerId": 6,
   "defaultVisibility": true,
   "subLayerIds": null,
   "minScale": 0,
   "maxScale": 0
  },
  {
   "id": 8,
   "name": "BarajlarGöletler",
   "parentLayerId": 6,
   "defaultVisibility": true,
   "subLayerIds": null,
   "minScale": 0,
   "maxScale": 0
  },
  {
   "id": 9,
   "name": "Komsu_iller_itrf",
   "parentLayerId": 6,
   "defaultVisibility": true,
   "subLayerIds": null,
   "minScale": 0,
   "maxScale": 0
  },
  {
   "id": 10,
   "name": "Ilce Alani",
   "parentLayerId": 6,
   "defaultVisibility": true,
   "subLayerIds": null,
   "minScale": 0,
   "maxScale": 0
  },
  {
   "id": 11,
   "name": "Yol_Anayol",
   "parentLayerId": 6,
   "defaultVisibility": true,
   "subLayerIds": null,
   "minScale": 0,
   "maxScale": 0
  },
  {
   "id": 12,
   "name": "Il_Nokta",
   "parentLayerId": 6,
   "defaultVisibility": true,
   "subLayerIds": null,
   "minScale": 0,
   "maxScale": 0
  },
  {
   "id": 13,
   "name": "Mahalle",
   "parentLayerId": 6,
   "defaultVisibility": true,
   "subLayerIds": null,
   "minScale": 0,
   "maxScale": 0
  },
  {
   "id": 14,
   "name": "150000 - 100000",
   "parentLayerId": -1,
   "defaultVisibility": true,
   "subLayerIds": [
    15,
    16,
    17,
    18,
    19,
    20,
    21
   ],
   "minScale": 150000,
   "maxScale": 100001
  },
  {
   "id": 15,
   "name": "REHBER.RHB_ONEMLIYERLER",
   "parentLayerId": 14,
   "defaultVisibility": true,
   "subLayerIds": null,
   "minScale": 0,
   "maxScale": 0
  },
  {
   "id": 16,
   "name": "Komsu_iller_itrf",
   "parentLayerId": 14,
   "defaultVisibility": true,
   "subLayerIds": null,
   "minScale": 0,
   "maxScale": 0
  },
  {
   "id": 17,
   "name": "Ilce Alani",
   "parentLayerId": 14,
   "defaultVisibility": true,
   "subLayerIds": null,
   "minScale": 0,
   "maxScale": 0
  },
  {
   "id": 18,
   "name": "BarajlarGöletler",
   "parentLayerId": 14,
   "defaultVisibility": true,
   "subLayerIds": null,
   "minScale": 0,
   "maxScale": 0
  },
  {
   "id": 19,
   "name": "Yol_Anayol",
   "parentLayerId": 14,
   "defaultVisibility": true,
   "subLayerIds": null,
   "minScale": 0,
   "maxScale": 0
  },
  {
   "id": 20,
   "name": "Il_Nokta",
   "parentLayerId": 14,
   "defaultVisibility": true,
   "subLayerIds": null,
   "minScale": 0,
   "maxScale": 0
  },
  {
   "id": 21,
   "name": "Mahalle",
   "parentLayerId": 14,
   "defaultVisibility": true,
   "subLayerIds": null,
   "minScale": 0,
   "maxScale": 0
  },
  {
   "id": 22,
   "name": "100000 - 50000",
   "parentLayerId": -1,
   "defaultVisibility": true,
   "subLayerIds": [
    23,
    24,
    25,
    26,
    27,
    28,
    29
   ],
   "minScale": 100000,
   "maxScale": 50001
  },
  {
   "id": 23,
   "name": "REHBER.RHB_ONEMLIYERLER",
   "parentLayerId": 22,
   "defaultVisibility": true,
   "subLayerIds": null,
   "minScale": 0,
   "maxScale": 0
  },
  {
   "id": 24,
   "name": "BarajlarGöletler",
   "parentLayerId": 22,
   "defaultVisibility": true,
   "subLayerIds": null,
   "minScale": 0,
   "maxScale": 0
  },
  {
   "id": 25,
   "name": "Komsu_iller_itrf",
   "parentLayerId": 22,
   "defaultVisibility": true,
   "subLayerIds": null,
   "minScale": 0,
   "maxScale": 0
  },
  {
   "id": 26,
   "name": "Ilce Alani",
   "parentLayerId": 22,
   "defaultVisibility": true,
   "subLayerIds": null,
   "minScale": 0,
   "maxScale": 0
  },
  {
   "id": 27,
   "name": "YolOrtaHatti",
   "parentLayerId": 22,
   "defaultVisibility": true,
   "subLayerIds": null,
   "minScale": 0,
   "maxScale": 0
  },
  {
   "id": 28,
   "name": "Il_Nokta",
   "parentLayerId": 22,
   "defaultVisibility": true,
   "subLayerIds": null,
   "minScale": 0,
   "maxScale": 0
  },
  {
   "id": 29,
   "name": "Mahalle",
   "parentLayerId": 22,
   "defaultVisibility": true,
   "subLayerIds": null,
   "minScale": 0,
   "maxScale": 0
  },
  {
   "id": 30,
   "name": "50000 - 25000",
   "parentLayerId": -1,
   "defaultVisibility": true,
   "subLayerIds": [
    31,
    32,
    33,
    34,
    35,
    36
   ],
   "minScale": 50000,
   "maxScale": 25001
  },
  {
   "id": 31,
   "name": "REHBER.RHB_ONEMLIYERLER",
   "parentLayerId": 30,
   "defaultVisibility": true,
   "subLayerIds": null,
   "minScale": 0,
   "maxScale": 0
  },
  {
   "id": 32,
   "name": "Komsu_iller_itrf",
   "parentLayerId": 30,
   "defaultVisibility": true,
   "subLayerIds": null,
   "minScale": 0,
   "maxScale": 0
  },
  {
   "id": 33,
   "name": "Ilce Alani",
   "parentLayerId": 30,
   "defaultVisibility": true,
   "subLayerIds": null,
   "minScale": 0,
   "maxScale": 0
  },
  {
   "id": 34,
   "name": "Mahalle",
   "parentLayerId": 30,
   "defaultVisibility": true,
   "subLayerIds": null,
   "minScale": 0,
   "maxScale": 0
  },
  {
   "id": 35,
   "name": "YolOrtaHatti",
   "parentLayerId": 30,
   "defaultVisibility": true,
   "subLayerIds": null,
   "minScale": 0,
   "maxScale": 0
  },
  {
   "id": 36,
   "name": "BarajlarGöletler",
   "parentLayerId": 30,
   "defaultVisibility": true,
   "subLayerIds": null,
   "minScale": 0,
   "maxScale": 0
  },
  {
   "id": 37,
   "name": "25000 - 15000",
   "parentLayerId": -1,
   "defaultVisibility": true,
   "subLayerIds": [
    38,
    39,
    40,
    41,
    42,
    43
   ],
   "minScale": 25000,
   "maxScale": 15001
  },
  {
   "id": 38,
   "name": "REHBER.RHB_ONEMLIYERLER",
   "parentLayerId": 37,
   "defaultVisibility": true,
   "subLayerIds": null,
   "minScale": 0,
   "maxScale": 0
  },
  {
   "id": 39,
   "name": "Komsu_iller_itrf",
   "parentLayerId": 37,
   "defaultVisibility": true,
   "subLayerIds": null,
   "minScale": 0,
   "maxScale": 0
  },
  {
   "id": 40,
   "name": "Ilce Alani",
   "parentLayerId": 37,
   "defaultVisibility": true,
   "subLayerIds": null,
   "minScale": 0,
   "maxScale": 0
  },
  {
   "id": 41,
   "name": "Mahalle",
   "parentLayerId": 37,
   "defaultVisibility": true,
   "subLayerIds": null,
   "minScale": 0,
   "maxScale": 0
  },
  {
   "id": 42,
   "name": "YolOrtaHatti",
   "parentLayerId": 37,
   "defaultVisibility": true,
   "subLayerIds": null,
   "minScale": 0,
   "maxScale": 0
  },
  {
   "id": 43,
   "name": "BarajlarGöletler",
   "parentLayerId": 37,
   "defaultVisibility": true,
   "subLayerIds": null,
   "minScale": 0,
   "maxScale": 0
  },
  {
   "id": 44,
   "name": "15000 - 10000",
   "parentLayerId": -1,
   "defaultVisibility": true,
   "subLayerIds": [
    45,
    46,
    47,
    48,
    49,
    50,
    51
   ],
   "minScale": 15000,
   "maxScale": 10001
  },
  {
   "id": 45,
   "name": "REHBER.RHB_ONEMLIYERLER",
   "parentLayerId": 44,
   "defaultVisibility": true,
   "subLayerIds": null,
   "minScale": 0,
   "maxScale": 0
  },
  {
   "id": 46,
   "name": "Komsu_iller_itrf",
   "parentLayerId": 44,
   "defaultVisibility": true,
   "subLayerIds": null,
   "minScale": 0,
   "maxScale": 0
  },
  {
   "id": 47,
   "name": "Ilce Alani",
   "parentLayerId": 44,
   "defaultVisibility": true,
   "subLayerIds": null,
   "minScale": 0,
   "maxScale": 0
  },
  {
   "id": 48,
   "name": "Mahalle",
   "parentLayerId": 44,
   "defaultVisibility": true,
   "subLayerIds": null,
   "minScale": 0,
   "maxScale": 0
  },
  {
   "id": 49,
   "name": "YolOrtaHatti",
   "parentLayerId": 44,
   "defaultVisibility": true,
   "subLayerIds": null,
   "minScale": 0,
   "maxScale": 0
  },
  {
   "id": 50,
   "name": "CDP_Hidroloji_Hidrografi",
   "parentLayerId": 44,
   "defaultVisibility": true,
   "subLayerIds": null,
   "minScale": 0,
   "maxScale": 0
  },
  {
   "id": 51,
   "name": "BarajlarGöletler",
   "parentLayerId": 44,
   "defaultVisibility": true,
   "subLayerIds": null,
   "minScale": 0,
   "maxScale": 0
  },
  {
   "id": 52,
   "name": "10000 - 7500",
   "parentLayerId": -1,
   "defaultVisibility": true,
   "subLayerIds": [
    53,
    54,
    55,
    56,
    57,
    58,
    59
   ],
   "minScale": 10000,
   "maxScale": 7501
  },
  {
   "id": 53,
   "name": "REHBER.RHB_ONEMLIYERLER",
   "parentLayerId": 52,
   "defaultVisibility": true,
   "subLayerIds": null,
   "minScale": 0,
   "maxScale": 0
  },
  {
   "id": 54,
   "name": "Komsu_iller_itrf",
   "parentLayerId": 52,
   "defaultVisibility": true,
   "subLayerIds": null,
   "minScale": 0,
   "maxScale": 0
  },
  {
   "id": 55,
   "name": "Ilce Alani",
   "parentLayerId": 52,
   "defaultVisibility": true,
   "subLayerIds": null,
   "minScale": 0,
   "maxScale": 0
  },
  {
   "id": 56,
   "name": "Mahalle",
   "parentLayerId": 52,
   "defaultVisibility": true,
   "subLayerIds": null,
   "minScale": 0,
   "maxScale": 0
  },
  {
   "id": 57,
   "name": "YolOrtaHatti",
   "parentLayerId": 52,
   "defaultVisibility": true,
   "subLayerIds": null,
   "minScale": 0,
   "maxScale": 0
  },
  {
   "id": 58,
   "name": "CDP_Hidroloji_Hidrografi",
   "parentLayerId": 52,
   "defaultVisibility": true,
   "subLayerIds": null,
   "minScale": 0,
   "maxScale": 0
  },
  {
   "id": 59,
   "name": "BarajlarGöletler",
   "parentLayerId": 52,
   "defaultVisibility": true,
   "subLayerIds": null,
   "minScale": 0,
   "maxScale": 0
  },
  {
   "id": 60,
   "name": "7500 - 5000",
   "parentLayerId": -1,
   "defaultVisibility": true,
   "subLayerIds": [
    61,
    62,
    63,
    64,
    65,
    66,
    67,
    68
   ],
   "minScale": 7500,
   "maxScale": 5001
  },
  {
   "id": 61,
   "name": "REHBER.RHB_ONEMLIYERLER",
   "parentLayerId": 60,
   "defaultVisibility": true,
   "subLayerIds": null,
   "minScale": 0,
   "maxScale": 0
  },
  {
   "id": 62,
   "name": "Komsu_iller_itrf",
   "parentLayerId": 60,
   "defaultVisibility": true,
   "subLayerIds": null,
   "minScale": 0,
   "maxScale": 0
  },
  {
   "id": 63,
   "name": "IL Alani",
   "parentLayerId": 60,
   "defaultVisibility": true,
   "subLayerIds": null,
   "minScale": 0,
   "maxScale": 0
  },
  {
   "id": 64,
   "name": "Ilce Alani",
   "parentLayerId": 60,
   "defaultVisibility": true,
   "subLayerIds": null,
   "minScale": 0,
   "maxScale": 0
  },
  {
   "id": 65,
   "name": "Mahalle",
   "parentLayerId": 60,
   "defaultVisibility": true,
   "subLayerIds": null,
   "minScale": 0,
   "maxScale": 0
  },
  {
   "id": 66,
   "name": "YolOrtaHatti",
   "parentLayerId": 60,
   "defaultVisibility": true,
   "subLayerIds": null,
   "minScale": 0,
   "maxScale": 0
  },
  {
   "id": 67,
   "name": "BarajlarGöletler",
   "parentLayerId": 60,
   "defaultVisibility": true,
   "subLayerIds": null,
   "minScale": 0,
   "maxScale": 0
  },
  {
   "id": 68,
   "name": "CDP_Hidroloji_Hidrografi",
   "parentLayerId": 60,
   "defaultVisibility": true,
   "subLayerIds": null,
   "minScale": 0,
   "maxScale": 0
  },
  {
   "id": 69,
   "name": "5000 - 2500",
   "parentLayerId": -1,
   "defaultVisibility": true,
   "subLayerIds": [
    70,
    71,
    72,
    73,
    74,
    75,
    76
   ],
   "minScale": 5000,
   "maxScale": 2501
  },
  {
   "id": 70,
   "name": "REHBER.RHB_ONEMLIYERLER",
   "parentLayerId": 69,
   "defaultVisibility": true,
   "subLayerIds": null,
   "minScale": 0,
   "maxScale": 0
  },
  {
   "id": 71,
   "name": "Komsu_iller_itrf",
   "parentLayerId": 69,
   "defaultVisibility": true,
   "subLayerIds": null,
   "minScale": 0,
   "maxScale": 0
  },
  {
   "id": 72,
   "name": "Ilce Alani",
   "parentLayerId": 69,
   "defaultVisibility": true,
   "subLayerIds": null,
   "minScale": 0,
   "maxScale": 0
  },
  {
   "id": 73,
   "name": "Mahalle",
   "parentLayerId": 69,
   "defaultVisibility": true,
   "subLayerIds": null,
   "minScale": 0,
   "maxScale": 0
  },
  {
   "id": 74,
   "name": "YolOrtaHatti",
   "parentLayerId": 69,
   "defaultVisibility": true,
   "subLayerIds": null,
   "minScale": 0,
   "maxScale": 0
  },
  {
   "id": 75,
   "name": "CDP_Hidroloji_Hidrografi",
   "parentLayerId": 69,
   "defaultVisibility": true,
   "subLayerIds": null,
   "minScale": 0,
   "maxScale": 0
  },
  {
   "id": 76,
   "name": "BarajlarGöletler",
   "parentLayerId": 69,
   "defaultVisibility": true,
   "subLayerIds": null,
   "minScale": 0,
   "maxScale": 0
  },
  {
   "id": 77,
   "name": "2500 - 1500",
   "parentLayerId": -1,
   "defaultVisibility": true,
   "subLayerIds": [
    78,
    79,
    80,
    81,
    82,
    83,
    84
   ],
   "minScale": 2500,
   "maxScale": 1501
  },
  {
   "id": 78,
   "name": "REHBER.RHB_ONEMLIYERLER",
   "parentLayerId": 77,
   "defaultVisibility": true,
   "subLayerIds": null,
   "minScale": 0,
   "maxScale": 0
  },
  {
   "id": 79,
   "name": "Komsu_iller_itrf",
   "parentLayerId": 77,
   "defaultVisibility": true,
   "subLayerIds": null,
   "minScale": 0,
   "maxScale": 0
  },
  {
   "id": 80,
   "name": "Ilce Alani",
   "parentLayerId": 77,
   "defaultVisibility": true,
   "subLayerIds": null,
   "minScale": 0,
   "maxScale": 0
  },
  {
   "id": 81,
   "name": "Mahalle",
   "parentLayerId": 77,
   "defaultVisibility": true,
   "subLayerIds": null,
   "minScale": 0,
   "maxScale": 0
  },
  {
   "id": 82,
   "name": "YolOrtaHatti",
   "parentLayerId": 77,
   "defaultVisibility": true,
   "subLayerIds": null,
   "minScale": 0,
   "maxScale": 0
  },
  {
   "id": 83,
   "name": "CDP_Hidroloji_Hidrografi",
   "parentLayerId": 77,
   "defaultVisibility": true,
   "subLayerIds": null,
   "minScale": 0,
   "maxScale": 0
  },
  {
   "id": 84,
   "name": "BarajlarGöletler",
   "parentLayerId": 77,
   "defaultVisibility": true,
   "subLayerIds": null,
   "minScale": 0,
   "maxScale": 0
  },
  {
   "id": 85,
   "name": "1500 - 1000",
   "parentLayerId": -1,
   "defaultVisibility": true,
   "subLayerIds": [
    86,
    87,
    88,
    89,
    90,
    91,
    92,
    93,
    94
   ],
   "minScale": 1500,
   "maxScale": 1001
  },
  {
   "id": 86,
   "name": "REHBER.RHB_ONEMLIYERLER",
   "parentLayerId": 85,
   "defaultVisibility": true,
   "subLayerIds": null,
   "minScale": 0,
   "maxScale": 0
  },
  {
   "id": 87,
   "name": "Komsu_iller_itrf",
   "parentLayerId": 85,
   "defaultVisibility": true,
   "subLayerIds": null,
   "minScale": 0,
   "maxScale": 0
  },
  {
   "id": 88,
   "name": "Ilce Alani",
   "parentLayerId": 85,
   "defaultVisibility": true,
   "subLayerIds": null,
   "minScale": 0,
   "maxScale": 0
  },
  {
   "id": 89,
   "name": "Mahalle",
   "parentLayerId": 85,
   "defaultVisibility": true,
   "subLayerIds": null,
   "minScale": 0,
   "maxScale": 0
  },
  {
   "id": 90,
   "name": "Numarataj",
   "parentLayerId": 85,
   "defaultVisibility": true,
   "subLayerIds": null,
   "minScale": 500,
   "maxScale": 0
  },
  {
   "id": 91,
   "name": "YolOrtaHatti",
   "parentLayerId": 85,
   "defaultVisibility": true,
   "subLayerIds": null,
   "minScale": 0,
   "maxScale": 0
  },
  {
   "id": 92,
   "name": "CDP_Hidroloji_Hidrografi",
   "parentLayerId": 85,
   "defaultVisibility": true,
   "subLayerIds": null,
   "minScale": 0,
   "maxScale": 0
  },
  {
   "id": 93,
   "name": "BarajlarGöletler",
   "parentLayerId": 85,
   "defaultVisibility": true,
   "subLayerIds": null,
   "minScale": 0,
   "maxScale": 0
  },
  {
   "id": 94,
   "name": "Yapi",
   "parentLayerId": 85,
   "defaultVisibility": true,
   "subLayerIds": null,
   "minScale": 1000,
   "maxScale": 0
  },
  {
   "id": 95,
   "name": "1000 - 500",
   "parentLayerId": -1,
   "defaultVisibility": true,
   "subLayerIds": [
    96,
    97,
    98,
    99,
    100,
    101,
    102,
    103,
    104
   ],
   "minScale": 1000,
   "maxScale": 501
  },
  {
   "id": 96,
   "name": "REHBER.RHB_ONEMLIYERLER",
   "parentLayerId": 95,
   "defaultVisibility": true,
   "subLayerIds": null,
   "minScale": 0,
   "maxScale": 0
  },
  {
   "id": 97,
   "name": "Komsu_iller_itrf",
   "parentLayerId": 95,
   "defaultVisibility": true,
   "subLayerIds": null,
   "minScale": 0,
   "maxScale": 0
  },
  {
   "id": 98,
   "name": "Ilce Alani",
   "parentLayerId": 95,
   "defaultVisibility": true,
   "subLayerIds": null,
   "minScale": 0,
   "maxScale": 0
  },
  {
   "id": 99,
   "name": "Mahalle",
   "parentLayerId": 95,
   "defaultVisibility": true,
   "subLayerIds": null,
   "minScale": 0,
   "maxScale": 0
  },
  {
   "id": 100,
   "name": "Numarataj",
   "parentLayerId": 95,
   "defaultVisibility": true,
   "subLayerIds": null,
   "minScale": 500,
   "maxScale": 0
  },
  {
   "id": 101,
   "name": "YolOrtaHatti",
   "parentLayerId": 95,
   "defaultVisibility": true,
   "subLayerIds": null,
   "minScale": 0,
   "maxScale": 0
  },
  {
   "id": 102,
   "name": "CDP_Hidroloji_Hidrografi",
   "parentLayerId": 95,
   "defaultVisibility": true,
   "subLayerIds": null,
   "minScale": 0,
   "maxScale": 0
  },
  {
   "id": 103,
   "name": "BarajlarGöletler",
   "parentLayerId": 95,
   "defaultVisibility": true,
   "subLayerIds": null,
   "minScale": 0,
   "maxScale": 0
  },
  {
   "id": 104,
   "name": "Yapi",
   "parentLayerId": 95,
   "defaultVisibility": true,
   "subLayerIds": null,
   "minScale": 1000,
   "maxScale": 0
  },
  {
   "id": 105,
   "name": "500 - 0",
   "parentLayerId": -1,
   "defaultVisibility": true,
   "subLayerIds": [
    106,
    107,
    108,
    109,
    110,
    111,
    112,
    113,
    114
   ],
   "minScale": 500,
   "maxScale": 0
  },
  {
   "id": 106,
   "name": "REHBER.RHB_ONEMLIYERLER",
   "parentLayerId": 105,
   "defaultVisibility": true,
   "subLayerIds": null,
   "minScale": 0,
   "maxScale": 0
  },
  {
   "id": 107,
   "name": "Komsu_iller_itrf",
   "parentLayerId": 105,
   "defaultVisibility": true,
   "subLayerIds": null,
   "minScale": 0,
   "maxScale": 0
  },
  {
   "id": 108,
   "name": "Ilce Alani",
   "parentLayerId": 105,
   "defaultVisibility": true,
   "subLayerIds": null,
   "minScale": 0,
   "maxScale": 0
  },
  {
   "id": 109,
   "name": "Mahalle",
   "parentLayerId": 105,
   "defaultVisibility": true,
   "subLayerIds": null,
   "minScale": 0,
   "maxScale": 0
  },
  {
   "id": 110,
   "name": "Numarataj",
   "parentLayerId": 105,
   "defaultVisibility": true,
   "subLayerIds": null,
   "minScale": 500,
   "maxScale": 0
  },
  {
   "id": 111,
   "name": "YolOrtaHatti",
   "parentLayerId": 105,
   "defaultVisibility": true,
   "subLayerIds": null,
   "minScale": 0,
   "maxScale": 0
  },
  {
   "id": 112,
   "name": "CDP_Hidroloji_Hidrografi",
   "parentLayerId": 105,
   "defaultVisibility": true,
   "subLayerIds": null,
   "minScale": 0,
   "maxScale": 0
  },
  {
   "id": 113,
   "name": "BarajlarGöletler",
   "parentLayerId": 105,
   "defaultVisibility": true,
   "subLayerIds": null,
   "minScale": 0,
   "maxScale": 0
  },
  {
   "id": 114,
   "name": "Yapi",
   "parentLayerId": 105,
   "defaultVisibility": true,
   "subLayerIds": null,
   "minScale": 1000,
   "maxScale": 0
  }
 ],
 "tables": [],
 "spatialReference": {
  "wkt": "PROJCS[\"ITRF96\",GEOGCS[\"GCS_WGS_1984\",DATUM[\"D_WGS_1984\",SPHEROID[\"WGS_1984\",6378137.0,298.257223563]],PRIMEM[\"Greenwich\",0.0],UNIT[\"Degree\",0.0174532925199433]],PROJECTION[\"Transverse_Mercator\"],PARAMETER[\"False_Easting\",500000.0],PARAMETER[\"False_Northing\",0.0],PARAMETER[\"Central_Meridian\",27.0],PARAMETER[\"Scale_Factor\",1.0],PARAMETER[\"Latitude_Of_Origin\",0.0],UNIT[\"Meter\",1.0]]"
 },
 "singleFusedMapCache": true,
 "tileInfo": {
  "rows": 256,
  "cols": 256,
  "dpi": 96,
  "format": "PNG",
  "compressionQuality": 0,
  "origin": {
   "x": -5123200,
   "y": 10002100
  },
  "spatialReference": {
   "wkt": "PROJCS[\"ITRF96\",GEOGCS[\"GCS_WGS_1984\",DATUM[\"D_WGS_1984\",SPHEROID[\"WGS_1984\",6378137.0,298.257223563]],PRIMEM[\"Greenwich\",0.0],UNIT[\"Degree\",0.0174532925199433]],PROJECTION[\"Transverse_Mercator\"],PARAMETER[\"False_Easting\",500000.0],PARAMETER[\"False_Northing\",0.0],PARAMETER[\"Central_Meridian\",27.0],PARAMETER[\"Scale_Factor\",1.0],PARAMETER[\"Latitude_Of_Origin\",0.0],UNIT[\"Meter\",1.0]]"
  },
  "lods": [
   {
    "level": 0,
    "resolution": 238.12547625095252,
    "scale": 900000
   },
   {
    "level": 1,
    "resolution": 158.75031750063502,
    "scale": 600000
   },
   {
    "level": 2,
    "resolution": 119.06273812547626,
    "scale": 450000
   },
   {
    "level": 3,
    "resolution": 79.37515875031751,
    "scale": 300000
   },
   {
    "level": 4,
    "resolution": 39.687579375158755,
    "scale": 150000
   },
   {
    "level": 5,
    "resolution": 26.458386250105836,
    "scale": 100000
   },
   {
    "level": 6,
    "resolution": 19.843789687579378,
    "scale": 75000
   },
   {
    "level": 7,
    "resolution": 13.229193125052918,
    "scale": 50000
   },
   {
    "level": 8,
    "resolution": 6.614596562526459,
    "scale": 25000
   },
   {
    "level": 9,
    "resolution": 3.9687579375158752,
    "scale": 15000
   },
   {
    "level": 10,
    "resolution": 2.381254762509525,
    "scale": 9000
   },
   {
    "level": 11,
    "resolution": 1.9843789687579376,
    "scale": 7500
   },
   {
    "level": 12,
    "resolution": 1.3229193125052918,
    "scale": 5000
   },
   {
    "level": 13,
    "resolution": 0.6614596562526459,
    "scale": 2500
   },
   {
    "level": 14,
    "resolution": 0.26458386250105836,
    "scale": 1000
   },
   {
    "level": 15,
    "resolution": 0.1124481415629498,
    "scale": 425
   }
  ]
 },
 "initialExtent": {
  "xmin": 513177.1675051948,
  "ymin": 4254448.406313578,
  "xmax": 513857.1480318225,
  "ymax": 4254630.969178703,
  "spatialReference": {
   "cs": "pcs",
   "wkt": "PROJCS[\"ITRF96\",GEOGCS[\"GCS_WGS_1984\",DATUM[\"D_WGS_1984\",SPHEROID[\"WGS_1984\",6378137.0,298.257223563]],PRIMEM[\"Greenwich\",0.0],UNIT[\"Degree\",0.0174532925199433]],PROJECTION[\"Transverse_Mercator\"],PARAMETER[\"False_Easting\",500000.0],PARAMETER[\"False_Northing\",0.0],PARAMETER[\"Central_Meridian\",27.0],PARAMETER[\"Scale_Factor\",1.0],PARAMETER[\"Latitude_Of_Origin\",0.0],UNIT[\"Meter\",1.0]]"
  }
 },
 "fullExtent": {
  "xmin": 356880.22710523714,
  "ymin": 4176721.23401243,
  "xmax": 724784.0879129588,
  "ymax": 4376270.383110728,
  "spatialReference": {
   "cs": "pcs",
   "wkt": "PROJCS[\"ITRF96\",GEOGCS[\"GCS_WGS_1984\",DATUM[\"D_WGS_1984\",SPHEROID[\"WGS_1984\",6378137.0,298.257223563]],PRIMEM[\"Greenwich\",0.0],UNIT[\"Degree\",0.0174532925199433]],PROJECTION[\"Transverse_Mercator\"],PARAMETER[\"False_Easting\",500000.0],PARAMETER[\"False_Northing\",0.0],PARAMETER[\"Central_Meridian\",27.0],PARAMETER[\"Scale_Factor\",1.0],PARAMETER[\"Latitude_Of_Origin\",0.0],UNIT[\"Meter\",1.0]]"
  }
 },
 "minScale": 900000,
 "maxScale": 425,
 "units": "esriMeters",
 "supportedImageFormatTypes": "PNG32,PNG24,PNG,JPG,DIB,TIFF,EMF,PS,PDF,GIF,SVG,SVGZ,BMP",
 "documentInfo": {
  "Title": "",
  "Author": "",
  "Comments": "",
  "Subject": "",
  "Category": "",
  "AntialiasingMode": "None",
  "TextAntialiasingMode": "Force",
  "Keywords": ""
 },
